BEGIN:VCALENDAR
VERSION:2.0
PRODID:https://github.com/derhansen/sf_event_mgt
METHOD:PUBLISH
BEGIN:VEVENT
UID:57-22@vs-arbing.at
CLASS: PUBLIC
SUMMARY:"Zwickeltag"
DESCRIPTION:
DTSTAMP:20251110T123249Z
DTSTART:20260605T080000Z
DTEND:20260605T130000Z
END:VEVENT
END:VCALENDAR
