BEGIN:VCALENDAR
VERSION:2.0
PRODID:https://github.com/derhansen/sf_event_mgt
METHOD:PUBLISH
BEGIN:VEVENT
UID:94-22@vs-arbing.at
CLASS: PUBLIC
SUMMARY:Zeugnisverteilung
DESCRIPTION:
DTSTAMP:20251110T123635Z
DTSTART:20260710T075000Z
DTEND:20260710T082000Z
END:VEVENT
END:VCALENDAR
