BEGIN:VCALENDAR
VERSION:2.0
PRODID:https://github.com/derhansen/sf_event_mgt
METHOD:PUBLISH
BEGIN:VEVENT
UID:86-22@vs-arbing.at
CLASS: PUBLIC
SUMMARY:Staatsfeiertag - schulfrei
DESCRIPTION:
DTSTAMP:20251110T122813Z
DTSTART:20260501T080000Z
DTEND:20260501T130000Z
END:VEVENT
END:VCALENDAR
