BEGIN:VCALENDAR
VERSION:2.0
PRODID:https://github.com/derhansen/sf_event_mgt
METHOD:PUBLISH
BEGIN:VEVENT
UID:58-22@vs-arbing.at
CLASS: PUBLIC
SUMMARY:Sommerferien
DESCRIPTION:
DTSTAMP:20250923T053135Z
DTSTART:20260713T080000Z
DTEND:20260913T200000Z
END:VEVENT
END:VCALENDAR
