BEGIN:VCALENDAR
VERSION:2.0
PRODID:https://github.com/derhansen/sf_event_mgt
METHOD:PUBLISH
BEGIN:VEVENT
UID:102-22@vs-arbing.at
CLASS: PUBLIC
SUMMARY:Schwimmen Freibad
DESCRIPTION:
DTSTAMP:20260112T063336Z
DTSTART:20260625T075000Z
DTEND:20260625T123000Z
END:VEVENT
END:VCALENDAR
