BEGIN:VCALENDAR
VERSION:2.0
PRODID:https://github.com/derhansen/sf_event_mgt
METHOD:PUBLISH
BEGIN:VEVENT
UID:93-22@vs-arbing.at
CLASS: PUBLIC
SUMMARY:Schulschlussmesse
DESCRIPTION:
DTSTAMP:20251110T123601Z
DTSTART:20260707T080000Z
DTEND:20260707T090000Z
END:VEVENT
END:VCALENDAR
