BEGIN:VCALENDAR
VERSION:2.0
PRODID:https://github.com/derhansen/sf_event_mgt
METHOD:PUBLISH
BEGIN:VEVENT
UID:92-22@vs-arbing.at
CLASS: PUBLIC
SUMMARY:Schulschlussfest
DESCRIPTION:
DTSTAMP:20251110T123503Z
DTSTART:20260619T140000Z
DTEND:20260619T170000Z
END:VEVENT
END:VCALENDAR
