BEGIN:VCALENDAR
VERSION:2.0
PRODID:https://github.com/derhansen/sf_event_mgt
METHOD:PUBLISH
BEGIN:VEVENT
UID:110-22@vs-arbing.at
CLASS: PUBLIC
SUMMARY:Schule und Museum
DESCRIPTION:alle Klassen\n\nBurg Reichenstein
DTSTAMP:20260306T100724Z
DTSTART:20260629T080000Z
DTEND:20260629T123000Z
END:VEVENT
END:VCALENDAR
