BEGIN:VCALENDAR
VERSION:2.0
PRODID:https://github.com/derhansen/sf_event_mgt
METHOD:PUBLISH
BEGIN:VEVENT
UID:101-22@vs-arbing.at
CLASS: PUBLIC
SUMMARY:Schnupperstunden für Schulanfänger
DESCRIPTION:
DTSTAMP:20260112T063228Z
DTSTART:20260616T075000Z
DTEND:20260616T093000Z
END:VEVENT
END:VCALENDAR
