BEGIN:VCALENDAR
VERSION:2.0
PRODID:https://github.com/derhansen/sf_event_mgt
METHOD:PUBLISH
BEGIN:VEVENT
UID:109-22@vs-arbing.at
CLASS: PUBLIC
SUMMARY:Radworkshop
DESCRIPTION:2. und 3. Klasse
DTSTAMP:20260306T100630Z
DTSTART:20260528T080000Z
DTEND:20260528T113000Z
END:VEVENT
END:VCALENDAR
