BEGIN:VCALENDAR
VERSION:2.0
PRODID:https://github.com/derhansen/sf_event_mgt
METHOD:PUBLISH
BEGIN:VEVENT
UID:100-22@vs-arbing.at
CLASS: PUBLIC
SUMMARY:Rad-Workshop
DESCRIPTION:4. Klasse
DTSTAMP:20260112T063047Z
DTSTART:20260529T075000Z
DTEND:20260529T104500Z
END:VEVENT
END:VCALENDAR
