BEGIN:VCALENDAR
VERSION:2.0
PRODID:https://github.com/derhansen/sf_event_mgt
METHOD:PUBLISH
BEGIN:VEVENT
UID:90-22@vs-arbing.at
CLASS: PUBLIC
SUMMARY:Projekttage Hallstatt 4. Klasse
DESCRIPTION:
DTSTAMP:20251110T123108Z
DTSTART:20260526T080000Z
DTEND:20260528T130000Z
END:VEVENT
END:VCALENDAR
