BEGIN:VCALENDAR
VERSION:2.0
PRODID:https://github.com/derhansen/sf_event_mgt
METHOD:PUBLISH
BEGIN:VEVENT
UID:89-22@vs-arbing.at
CLASS: PUBLIC
SUMMARY:Pfingstmontag - schulfrei
DESCRIPTION:
DTSTAMP:20251110T123030Z
DTSTART:20260525T080000Z
DTEND:20260525T130000Z
END:VEVENT
END:VCALENDAR
