BEGIN:VCALENDAR
VERSION:2.0
PRODID:https://github.com/derhansen/sf_event_mgt
METHOD:PUBLISH
BEGIN:VEVENT
UID:98-22@vs-arbing.at
CLASS: PUBLIC
SUMMARY:Linz-Aktion
DESCRIPTION:4. Klasse
DTSTAMP:20260112T062834Z
DTSTART:20260506T070000Z
DTEND:20260506T170000Z
END:VEVENT
END:VCALENDAR
