BEGIN:VCALENDAR
VERSION:2.0
PRODID:https://github.com/derhansen/sf_event_mgt
METHOD:PUBLISH
BEGIN:VEVENT
UID:56-22@vs-arbing.at
CLASS: PUBLIC
SUMMARY:Heiliger Florian
DESCRIPTION:
DTSTAMP:20250923T052837Z
DTSTART:20260504T080000Z
DTEND:20260504T200000Z
END:VEVENT
END:VCALENDAR
