BEGIN:VCALENDAR
VERSION:2.0
PRODID:https://github.com/derhansen/sf_event_mgt
METHOD:PUBLISH
BEGIN:VEVENT
UID:91-22@vs-arbing.at
CLASS: PUBLIC
SUMMARY:Fronleichnam - schulfrei
DESCRIPTION:
DTSTAMP:20251110T123157Z
DTSTART:20260604T080000Z
DTEND:20260604T130000Z
END:VEVENT
END:VCALENDAR
