BEGIN:VCALENDAR
VERSION:2.0
PRODID:https://github.com/derhansen/sf_event_mgt
METHOD:PUBLISH
BEGIN:VEVENT
UID:88-22@vs-arbing.at
CLASS: PUBLIC
SUMMARY:Elternsprechtag + KEL-Gespräche
DESCRIPTION:
DTSTAMP:20251110T122953Z
DTSTART:20260518T130000Z
DTEND:20260522T130000Z
END:VEVENT
END:VCALENDAR
