BEGIN:VCALENDAR
VERSION:2.0
PRODID:https://github.com/derhansen/sf_event_mgt
METHOD:PUBLISH
BEGIN:VEVENT
UID:87-22@vs-arbing.at
CLASS: PUBLIC
SUMMARY:Christi Himmelfahrt - schulfrei
DESCRIPTION:
DTSTAMP:20251110T122910Z
DTSTART:20260514T080000Z
DTEND:20260514T130000Z
END:VEVENT
END:VCALENDAR
